BEGIN:VCALENDAR
VERSION:2.0
PRODID:-//Freiwillige Feuerwehr Reichenberg - ECPv6.15.20//NONSGML v1.0//EN
CALSCALE:GREGORIAN
METHOD:PUBLISH
X-WR-CALNAME:Freiwillige Feuerwehr Reichenberg
X-ORIGINAL-URL:https://ffw-reichenberg.de
X-WR-CALDESC:Veranstaltungen für Freiwillige Feuerwehr Reichenberg
REFRESH-INTERVAL;VALUE=DURATION:PT1H
X-Robots-Tag:noindex
X-PUBLISHED-TTL:PT1H
BEGIN:VTIMEZONE
TZID:Europe/Berlin
BEGIN:DAYLIGHT
TZOFFSETFROM:+0100
TZOFFSETTO:+0200
TZNAME:CEST
DTSTART:20220327T010000
END:DAYLIGHT
BEGIN:STANDARD
TZOFFSETFROM:+0200
TZOFFSETTO:+0100
TZNAME:CET
DTSTART:20221030T010000
END:STANDARD
BEGIN:DAYLIGHT
TZOFFSETFROM:+0100
TZOFFSETTO:+0200
TZNAME:CEST
DTSTART:20230326T010000
END:DAYLIGHT
BEGIN:STANDARD
TZOFFSETFROM:+0200
TZOFFSETTO:+0100
TZNAME:CET
DTSTART:20231029T010000
END:STANDARD
BEGIN:DAYLIGHT
TZOFFSETFROM:+0100
TZOFFSETTO:+0200
TZNAME:CEST
DTSTART:20240331T010000
END:DAYLIGHT
BEGIN:STANDARD
TZOFFSETFROM:+0200
TZOFFSETTO:+0100
TZNAME:CET
DTSTART:20241027T010000
END:STANDARD
END:VTIMEZONE
BEGIN:VEVENT
DTSTART;TZID=Europe/Berlin:20231028T190000
DTEND;TZID=Europe/Berlin:20231028T220000
DTSTAMP:20260422T053402
CREATED:20230930T073639Z
LAST-MODIFIED:20230930T074541Z
UID:572-1698519600-1698530400@ffw-reichenberg.de
SUMMARY:Jahreshauptversammlung
DESCRIPTION:Einladung Jahreshauptversammlung 2023Jahreshautversammlung des Feuerwehrvereins Reichenberg
URL:https://ffw-reichenberg.de/event/jahreshauptversammlung/
LOCATION:Dorfhaus Reichenberg\, Herzogstraße 78\, Reichenberg\, Bayern\, 94566\, Deutschland
ORGANIZER;CN="Freiw. Feuerwehr Reichenberg e. V.":MAILTO:post@ffw-reichenberg.de
END:VEVENT
END:VCALENDAR