BEGIN:VCALENDAR
VERSION:2.0
PRODID:-//Freiwillige Feuerwehr Reichenberg - ECPv6.15.20//NONSGML v1.0//EN
CALSCALE:GREGORIAN
METHOD:PUBLISH
X-WR-CALNAME:Freiwillige Feuerwehr Reichenberg
X-ORIGINAL-URL:https://ffw-reichenberg.de
X-WR-CALDESC:Veranstaltungen für Freiwillige Feuerwehr Reichenberg
REFRESH-INTERVAL;VALUE=DURATION:PT1H
X-Robots-Tag:noindex
X-PUBLISHED-TTL:PT1H
BEGIN:VTIMEZONE
TZID:Europe/Berlin
BEGIN:DAYLIGHT
TZOFFSETFROM:+0100
TZOFFSETTO:+0200
TZNAME:CEST
DTSTART:20220327T010000
END:DAYLIGHT
BEGIN:STANDARD
TZOFFSETFROM:+0200
TZOFFSETTO:+0100
TZNAME:CET
DTSTART:20221030T010000
END:STANDARD
BEGIN:DAYLIGHT
TZOFFSETFROM:+0100
TZOFFSETTO:+0200
TZNAME:CEST
DTSTART:20230326T010000
END:DAYLIGHT
BEGIN:STANDARD
TZOFFSETFROM:+0200
TZOFFSETTO:+0100
TZNAME:CET
DTSTART:20231029T010000
END:STANDARD
BEGIN:DAYLIGHT
TZOFFSETFROM:+0100
TZOFFSETTO:+0200
TZNAME:CEST
DTSTART:20240331T010000
END:DAYLIGHT
BEGIN:STANDARD
TZOFFSETFROM:+0200
TZOFFSETTO:+0100
TZNAME:CET
DTSTART:20241027T010000
END:STANDARD
END:VTIMEZONE
BEGIN:VEVENT
DTSTART;TZID=Europe/Berlin:20230915T180000
DTEND;TZID=Europe/Berlin:20230915T233000
DTSTAMP:20260422T070447
CREATED:20230718T105301Z
LAST-MODIFIED:20230718T110102Z
UID:525-1694800800-1694820600@ffw-reichenberg.de
SUMMARY:Reichenberger Weinabend
DESCRIPTION:Auf geht´s am 15.9.23 ab 18 Uhr zum Reichenberger Weinabend beim Dorfhaus und dem Dorfanger in Reichenberg. Die Freiw. Feuerwehr Reichenberg organisiert heuer erstmals zusammen mit dem Dorfverein einen Weinabend. Es ist für jeden Geschmack etwas geboten. Egal ob weiß\, rot\, rosé\, trocken\, herb oder lieblich sogar was prickelndes ist mit dabei. Natürlich auch alkoholfrei Getränke und für die Weinverweigerer ein Helles Bier. Auch das kulinarische und musikalische kommt nicht zu kurz. Und das alles zu vernünftigen Preisen.
URL:https://ffw-reichenberg.de/event/reichenberger-weinabend/
LOCATION:Dorfhaus Reichenberg\, Herzogstraße 78\, Reichenberg\, Bayern\, 94566\, Deutschland
CATEGORIES:Dorfveranstaltung,Vereinsveranstaltung
ORGANIZER;CN="Freiw. Feuerwehr Reichenberg e. V.":MAILTO:post@ffw-reichenberg.de
END:VEVENT
END:VCALENDAR