BEGIN:VCALENDAR
VERSION:2.0
PRODID:-//Freiwillige Feuerwehr Reichenberg - ECPv6.15.20//NONSGML v1.0//EN
CALSCALE:GREGORIAN
METHOD:PUBLISH
X-WR-CALNAME:Freiwillige Feuerwehr Reichenberg
X-ORIGINAL-URL:https://ffw-reichenberg.de
X-WR-CALDESC:Veranstaltungen für Freiwillige Feuerwehr Reichenberg
REFRESH-INTERVAL;VALUE=DURATION:PT1H
X-Robots-Tag:noindex
X-PUBLISHED-TTL:PT1H
BEGIN:VTIMEZONE
TZID:Europe/Berlin
BEGIN:DAYLIGHT
TZOFFSETFROM:+0100
TZOFFSETTO:+0200
TZNAME:CEST
DTSTART:20210328T010000
END:DAYLIGHT
BEGIN:STANDARD
TZOFFSETFROM:+0200
TZOFFSETTO:+0100
TZNAME:CET
DTSTART:20211031T010000
END:STANDARD
BEGIN:DAYLIGHT
TZOFFSETFROM:+0100
TZOFFSETTO:+0200
TZNAME:CEST
DTSTART:20220327T010000
END:DAYLIGHT
BEGIN:STANDARD
TZOFFSETFROM:+0200
TZOFFSETTO:+0100
TZNAME:CET
DTSTART:20221030T010000
END:STANDARD
BEGIN:DAYLIGHT
TZOFFSETFROM:+0100
TZOFFSETTO:+0200
TZNAME:CEST
DTSTART:20230326T010000
END:DAYLIGHT
BEGIN:STANDARD
TZOFFSETFROM:+0200
TZOFFSETTO:+0100
TZNAME:CET
DTSTART:20231029T010000
END:STANDARD
END:VTIMEZONE
BEGIN:VEVENT
DTSTART;TZID=Europe/Berlin:20221205T000000
DTEND;TZID=Europe/Berlin:20221206T000000
DTSTAMP:20260422T214151
CREATED:20221007T121405Z
LAST-MODIFIED:20221007T121405Z
UID:358-1670198400-1670284800@ffw-reichenberg.de
SUMMARY:Nikolausdienst der FFW Reichenberg
DESCRIPTION:
URL:https://ffw-reichenberg.de/event/nikolausdienst-der-ffw-reichenberg/
LOCATION:Bayern
ORGANIZER;CN="Freiw. Feuerwehr Reichenberg e. V.":MAILTO:post@ffw-reichenberg.de
END:VEVENT
BEGIN:VEVENT
DTSTART;TZID=Europe/Berlin:20221217T193000
DTEND;TZID=Europe/Berlin:20221217T193000
DTSTAMP:20260422T214151
CREATED:20221005T122431Z
LAST-MODIFIED:20221007T120340Z
UID:349-1671305400-1671305400@ffw-reichenberg.de
SUMMARY:Weihnachtsfeier der FFW Reichenberg
DESCRIPTION:
URL:https://ffw-reichenberg.de/event/weihnachtsfeier-der-ffw-reichenberg/
LOCATION:Dorfhaus Reichenberg\, Herzogstraße 78\, Reichenberg\, Bayern\, 94566\, Deutschland
CATEGORIES:Vereinsveranstaltung
ORGANIZER;CN="Freiw. Feuerwehr Reichenberg e. V.":MAILTO:post@ffw-reichenberg.de
END:VEVENT
BEGIN:VEVENT
DTSTART;TZID=Europe/Berlin:20221226T200000
DTEND;TZID=Europe/Berlin:20221226T200000
DTSTAMP:20260422T214151
CREATED:20221007T121038Z
LAST-MODIFIED:20221007T121312Z
UID:352-1672084800-1672084800@ffw-reichenberg.de
SUMMARY:Christbaumversteigerung der FFW Reichenberg
DESCRIPTION:
URL:https://ffw-reichenberg.de/event/christbaumversteigerung/
LOCATION:Wirtshaus zum Wichtl\, Hüttenberg 3\, Riedlhütte\, Bayern\, 94566\, Deutschland
ORGANIZER;CN="Freiw. Feuerwehr Reichenberg e. V.":MAILTO:post@ffw-reichenberg.de
END:VEVENT
END:VCALENDAR